BEGIN:VCALENDAR
VERSION:2.0
PRODID:-//eventon.com NONSGML v1.0//EN
CALSCALE:GREGORIAN
METHOD:PUBLISH
BEGIN:VEVENT
UID:69e8320a4e36b
DTSTAMP:20260422T022722Z
DTSTART:20200803T161500Z
DTEND:20200803T170000Z
LOCATION:http://musicmondays.ca/currentseason.html
SUMMARY:Music Mondays Concert Series
DESCRIPTION:Our 2020 Season Due to the COVID-19 Pandemic\,  concerts origin
 ally scheduled for May\,  June\,  and July have been postponed\, &nbsp; and
  re-scheduled for August\,  September\,  and October. Beginning on Monday A
 ug. 3rd\,  concerts will be streamed on A440.live at 12:15 pm each week. Vi
 sit the Music Mondays website for more information.[..]\nhttps://holytrinit
 y.to/events/music-mondays-concert-series/var/event_access
URL:https://holytrinity.to/events/music-mondays-concert-series/var/event_access
END:VEVENT
END:VCALENDAR