BEGIN:VCALENDAR
VERSION:2.0
PRODID:-//eventon.com NONSGML v1.0//EN
CALSCALE:GREGORIAN
METHOD:PUBLISH
BEGIN:VEVENT
UID:69e7c1ffea79c
DTSTAMP:20260421T182919Z
DTSTART:20201225T004500Z
DTEND:20201225T023000Z
LOCATION:https://us02web.zoom.us/j/669978222?pwd=T25zck1QclRzUE1iczJwdEI0UnQrQT09
SUMMARY:Christmas Eve service
DESCRIPTION:Holy Trinity’s Christmas Eve service will be by Zoom this yea
 r.&nbsp; We’ll start with a bit of conversation at 7:45 p.m. on Dec 24\, 
  and the festive service will begin at 8 p.m.&nbsp; More details will be se
 nt out in future. We will not be holding any worship service on[..]\nhttps:
 //holytrinity.to/events/christmas-eve-service/var/event_access
URL:https://holytrinity.to/events/christmas-eve-service/var/event_access
END:VEVENT
END:VCALENDAR