BEGIN:VCALENDAR
VERSION:2.0
PRODID:-//eventon.com NONSGML v1.0//EN
CALSCALE:GREGORIAN
METHOD:PUBLISH
BEGIN:VEVENT
UID:69e8b311dc473
DTSTAMP:20260422T113753Z
DTSTART:20220116T153000Z
DTEND:20220116T170000Z
LOCATION:https://us02web.zoom.us/j/669978222?pwd=T25zck1QclRzUE1iczJwdEI0UnQrQT09
SUMMARY:Sunday Morning gathering
DESCRIPTION:Sun. 10:30 a.m.Zoom Gatheringin person services are on hold for
  now\,  but we are very much alive and active online! Our worship is active
  and shared. We are constantly looking for and writing liturgy that reflect
 s who we are as a community. Some of the prayers and hymns we use[..]\nhttp
 s://holytrinity.to/events/sunday-morning-gathering/var/event_access
URL:https://holytrinity.to/events/sunday-morning-gathering/var/event_access
END:VEVENT
END:VCALENDAR