BEGIN:VCALENDAR
VERSION:2.0
PRODID:-//eventon.com NONSGML v1.0//EN
CALSCALE:GREGORIAN
METHOD:PUBLISH
BEGIN:VEVENT
UID:69e89557dd075
DTSTAMP:20260422T093103Z
DTSTART:20220214T160000Z
DTEND:20220214T180000Z
LOCATION:Holy Trinity 19 Trinity Square
SUMMARY:Unity Kitchen
DESCRIPTION:Our Community Relief Kitchen\,  Unity Kitchen Toronto\,  offers
  complete meals from our west doors\,  along with toiletries\,  survival eq
 uipment\,  clothing and other essentials. We also offer support\,  counsell
 ing and referral when requested. More information\nhttps://holytrinity.to/e
 vents/unity-kitchen/var/ri-25.l-L1
URL:https://holytrinity.to/events/unity-kitchen/var/ri-25.l-L1
END:VEVENT
END:VCALENDAR