BEGIN:VCALENDAR
VERSION:2.0
PRODID:-//eventon.com NONSGML v1.0//EN
CALSCALE:GREGORIAN
METHOD:PUBLISH
BEGIN:VEVENT
UID:69ecf97b8ee93
DTSTAMP:20260425T172723Z
DTSTART:20260310T160000Z
DTEND:20260310T173000Z
LOCATION:Holy Trinity 19 Trinity Square
SUMMARY:Trinity Community Hub
DESCRIPTION:\nhttps://holytrinity.to/events/trinitycommunityhub/var/ri-16.l
 -L1
URL:https://holytrinity.to/events/trinitycommunityhub/var/ri-16.l-L1
END:VEVENT
END:VCALENDAR