BEGIN:VCALENDAR
VERSION:2.0
PRODID:-//eventon.com NONSGML v1.0//EN
CALSCALE:GREGORIAN
METHOD:PUBLISH
BEGIN:VEVENT
UID:69e710e601a79
DTSTAMP:20260421T055342Z
DTSTART:20260909T160000Z
DTEND:20260909T173000Z
LOCATION:Holy Trinity 19 Trinity Square
SUMMARY:Trinity Community Hub
DESCRIPTION:\nhttps://holytrinity.to/events/trinitycommunityhub/var/ri-69.l
 -L1
URL:https://holytrinity.to/events/trinitycommunityhub/var/ri-69.l-L1
END:VEVENT
END:VCALENDAR