BEGIN:VCALENDAR
VERSION:2.0
PRODID:-//eventon.com NONSGML v1.0//EN
CALSCALE:GREGORIAN
METHOD:PUBLISH
BEGIN:VEVENT
UID:69e55b889773e
DTSTAMP:20260419T224736Z
DTSTART:20260923T160000Z
DTEND:20260923T173000Z
LOCATION:Holy Trinity 19 Trinity Square
SUMMARY:Trinity Community Hub
DESCRIPTION:\nhttps://holytrinity.to/events/trinitycommunityhub/var/ri-73.l
 -L1
URL:https://holytrinity.to/events/trinitycommunityhub/var/ri-73.l-L1
END:VEVENT
END:VCALENDAR