BEGIN:VCALENDAR
VERSION:2.0
PRODID:-//eventon.com NONSGML v1.0//EN
CALSCALE:GREGORIAN
METHOD:PUBLISH
BEGIN:VEVENT
UID:69e782376945d
DTSTAMP:20260421T135711Z
DTSTART:20261215T170000Z
DTEND:20261215T183000Z
LOCATION:Holy Trinity 19 Trinity Square
SUMMARY:Trinity Community Hub
DESCRIPTION:\nhttps://holytrinity.to/events/trinitycommunityhub/var/ri-96.l
 -L1
URL:https://holytrinity.to/events/trinitycommunityhub/var/ri-96.l-L1
END:VEVENT
END:VCALENDAR