BEGIN:VCALENDAR
VERSION:2.0
PRODID:-//eventon.com NONSGML v1.0//EN
CALSCALE:GREGORIAN
METHOD:PUBLISH
BEGIN:VEVENT
UID:69ecb388e87fd
DTSTAMP:20260425T122856Z
DTSTART:20240619T160000Z
DTEND:20240619T170000Z
LOCATION:Holy Trinity 19 Trinity Square
SUMMARY:Diabetes Foot and Wound Care Education Session
DESCRIPTION:\nhttps://holytrinity.to/events/diabetes-foot-and-wound-care-ed
 ucation-session/
URL:https://holytrinity.to/events/diabetes-foot-and-wound-care-education-session/
END:VEVENT
END:VCALENDAR