BEGIN:VCALENDAR
VERSION:2.0
PRODID:-//eventon.com NONSGML v1.0//EN
CALSCALE:GREGORIAN
METHOD:PUBLISH
BEGIN:VEVENT
UID:69e74de61ca0e
DTSTAMP:20260421T101358Z
DTSTART:20250524T140000Z
DTEND:20250524T210000Z
LOCATION:
SUMMARY:Doors Open 2025 at Holy Trinity
DESCRIPTION:Join us at the Church of the Holy Trinity for this year’s Doo
 rs Open Toronto\,  themed “The City Is Your Playground; Get Ready to Play
 ”in all its joyful\,  sacred\,  and transformative forms.&nbsp;Located be
 side the Eaton Centre in downtown Toronto\,  our historic church opens its 
 doors for a weekend of exploration\, [..]\nhttps://holytrinity.to/events/do
 ors-open-2025-at-holy-trinity/
URL:https://holytrinity.to/events/doors-open-2025-at-holy-trinity/
END:VEVENT
END:VCALENDAR