BEGIN:VCALENDAR
VERSION:2.0
PRODID:-//eventon.com NONSGML v1.0//EN
CALSCALE:GREGORIAN
METHOD:PUBLISH
BEGIN:VEVENT
UID:69e9fbc8c03b5
DTSTAMP:20260423T110024Z
DTSTART:20260426T190000Z
DTEND:20260426T170000Z
LOCATION:Holy Trinity 19 Trinity Square
SUMMARY:Cantemus Concerts -- Good Queen Bess
DESCRIPTION:Cantemus Singers Good Queen Bess Madrigals &amp; Motets of Tudo
 r England by Tallis\,  Byrd\,  Morley and Tomkins St Aidan’s Anglican Chu
 rch April 25 at 7:30 PM | Queen St. E. at Silver Birch Holy Trinity Church 
 April 26 at 3:00 PM | Eaton Centre Tickets $35 at the door or[..]\nhttps://
 holytrinity.to/events/cantemus-concerts-good-queen-bess/
URL:https://holytrinity.to/events/cantemus-concerts-good-queen-bess/
END:VEVENT
END:VCALENDAR